BEGIN:VCALENDAR
VERSION:2.0
PRODID:-//Help Me Grow North Texas - ECPv6.15.20//NONSGML v1.0//EN
CALSCALE:GREGORIAN
METHOD:PUBLISH
X-ORIGINAL-URL:https://helpmegrownorthtexas.org
X-WR-CALDESC:Events for Help Me Grow North Texas
REFRESH-INTERVAL;VALUE=DURATION:PT1H
X-Robots-Tag:noindex
X-PUBLISHED-TTL:PT1H
BEGIN:VTIMEZONE
TZID:America/Chicago
BEGIN:DAYLIGHT
TZOFFSETFROM:-0600
TZOFFSETTO:-0500
TZNAME:CDT
DTSTART:20230312T080000
END:DAYLIGHT
BEGIN:STANDARD
TZOFFSETFROM:-0500
TZOFFSETTO:-0600
TZNAME:CST
DTSTART:20231105T070000
END:STANDARD
BEGIN:DAYLIGHT
TZOFFSETFROM:-0600
TZOFFSETTO:-0500
TZNAME:CDT
DTSTART:20240310T080000
END:DAYLIGHT
BEGIN:STANDARD
TZOFFSETFROM:-0500
TZOFFSETTO:-0600
TZNAME:CST
DTSTART:20241103T070000
END:STANDARD
BEGIN:DAYLIGHT
TZOFFSETFROM:-0600
TZOFFSETTO:-0500
TZNAME:CDT
DTSTART:20250309T080000
END:DAYLIGHT
BEGIN:STANDARD
TZOFFSETFROM:-0500
TZOFFSETTO:-0600
TZNAME:CST
DTSTART:20251102T070000
END:STANDARD
END:VTIMEZONE
BEGIN:VEVENT
DTSTART;TZID=America/Chicago:20240215T100000
DTEND;TZID=America/Chicago:20240215T110000
DTSTAMP:20260422T232751
CREATED:20231228T181555Z
LAST-MODIFIED:20240105T214506Z
UID:105571-1707991200-1707994800@helpmegrownorthtexas.org
SUMMARY:Face to Face Sensory Group- Rice
DESCRIPTION:Come join us!
URL:https://helpmegrownorthtexas.org/event/face-to-face-sensory-group-rice-5/
LOCATION:305 Dallas St\, 305 Dallas Street\, Rice\, TX\, 75155\, United States
ATTACH;FMTTYPE=image/jpeg:https://helpmegrownorthtexas.org/wp-content/uploads/2023/12/abb8efeea74dde1462c52811b5299061.jpg
END:VEVENT
BEGIN:VEVENT
DTSTART;TZID=America/Chicago:20240215T103000
DTEND;TZID=America/Chicago:20240215T113000
DTSTAMP:20260422T232751
CREATED:20231228T181818Z
LAST-MODIFIED:20231228T181818Z
UID:105579-1707993000-1707996600@helpmegrownorthtexas.org
SUMMARY:Face to Face GLOW (Grow\, Live\, Obtain\, Wellness) Group- Mansfield
DESCRIPTION:Come join us!
URL:https://helpmegrownorthtexas.org/event/face-to-face-glow-grow-live-obtain-wellness-group-mansfield-3/
LOCATION:Mansfield Public Library\, 104 South Wisteria Street\, Mansfield\, TX\, 76063\, United States
ATTACH;FMTTYPE=image/jpeg:https://helpmegrownorthtexas.org/wp-content/uploads/2023/12/f34c9b88fa46fd35575e5627e064237d.jpg
END:VEVENT
BEGIN:VEVENT
DTSTART;TZID=America/Chicago:20240215T123000
DTEND;TZID=America/Chicago:20240215T140000
DTSTAMP:20260422T232751
CREATED:20240124T152209Z
LAST-MODIFIED:20240213T215002Z
UID:105708-1708000200-1708005600@helpmegrownorthtexas.org
SUMMARY:Virtual Nurturing Families Program
DESCRIPTION:Join Us!
URL:https://helpmegrownorthtexas.org/event/virtual-nurturing-families-program-spanish-4/
ATTACH;FMTTYPE=image/jpeg:https://helpmegrownorthtexas.org/wp-content/uploads/2024/02/168a69acd684a24be38447b4a17e6b9f.jpg
END:VEVENT
BEGIN:VEVENT
DTSTART;TZID=America/Chicago:20240215T160000
DTEND;TZID=America/Chicago:20240215T170000
DTSTAMP:20260422T232751
CREATED:20231228T181946Z
LAST-MODIFIED:20240206T181110Z
UID:105584-1708012800-1708016400@helpmegrownorthtexas.org
SUMMARY:Face to Face GLOW (Grow\, Live\, Obtain\, Wellness) Group- Ennis
DESCRIPTION:Come join us!
URL:https://helpmegrownorthtexas.org/event/face-to-face-glow-grow-live-obtain-wellness-group-ennis-3/
LOCATION:2 E Ennis Ave\, 2 East Ennis Avenue\, Ennis\, TX\, 75119\, United States
ATTACH;FMTTYPE=application/pdf:https://helpmegrownorthtexas.org/wp-content/uploads/2023/12/Glow-Ennis-1.pdf
END:VEVENT
BEGIN:VEVENT
DTSTART;TZID=America/Chicago:20240215T173000
DTEND;TZID=America/Chicago:20240215T193000
DTSTAMP:20260422T232751
CREATED:20240201T173905Z
LAST-MODIFIED:20240201T173905Z
UID:105757-1708018200-1708025400@helpmegrownorthtexas.org
SUMMARY:Face to Face #WoWTalk & Parent Café- Arlington
DESCRIPTION:Come join us!!
URL:https://helpmegrownorthtexas.org/event/face-to-face-wowtalk-parent-cafe-arlington/
LOCATION:401 W Sanford St\, 401 West Sanford Street\, Arlington\, TX\, 76011\, United States
ATTACH;FMTTYPE=image/jpeg:https://helpmegrownorthtexas.org/wp-content/uploads/2024/02/3fbf3833058a87b7c6027493c66e3569.jpg
END:VEVENT
END:VCALENDAR