BEGIN:VCALENDAR
VERSION:2.0
PRODID:-//Help Me Grow North Texas - ECPv6.15.20//NONSGML v1.0//EN
CALSCALE:GREGORIAN
METHOD:PUBLISH
X-WR-CALNAME:Help Me Grow North Texas
X-ORIGINAL-URL:https://helpmegrownorthtexas.org
X-WR-CALDESC:Events for Help Me Grow North Texas
REFRESH-INTERVAL;VALUE=DURATION:PT1H
X-Robots-Tag:noindex
X-PUBLISHED-TTL:PT1H
BEGIN:VTIMEZONE
TZID:America/Chicago
BEGIN:DAYLIGHT
TZOFFSETFROM:-0600
TZOFFSETTO:-0500
TZNAME:CDT
DTSTART:20230312T080000
END:DAYLIGHT
BEGIN:STANDARD
TZOFFSETFROM:-0500
TZOFFSETTO:-0600
TZNAME:CST
DTSTART:20231105T070000
END:STANDARD
BEGIN:DAYLIGHT
TZOFFSETFROM:-0600
TZOFFSETTO:-0500
TZNAME:CDT
DTSTART:20240310T080000
END:DAYLIGHT
BEGIN:STANDARD
TZOFFSETFROM:-0500
TZOFFSETTO:-0600
TZNAME:CST
DTSTART:20241103T070000
END:STANDARD
BEGIN:DAYLIGHT
TZOFFSETFROM:-0600
TZOFFSETTO:-0500
TZNAME:CDT
DTSTART:20250309T080000
END:DAYLIGHT
BEGIN:STANDARD
TZOFFSETFROM:-0500
TZOFFSETTO:-0600
TZNAME:CST
DTSTART:20251102T070000
END:STANDARD
END:VTIMEZONE
BEGIN:VEVENT
DTSTART;TZID=America/Chicago:20240214T090000
DTEND;TZID=America/Chicago:20240214T100000
DTSTAMP:20260422T232450
CREATED:20240125T224226Z
LAST-MODIFIED:20240125T224226Z
UID:105733-1707901200-1707904800@helpmegrownorthtexas.org
SUMMARY:Face to Face Transition Group- Fort Worth
DESCRIPTION:Come Join us!
URL:https://helpmegrownorthtexas.org/event/face-to-face-transition-group-fort-worth-2/
LOCATION:Mental Health America of Greater Tarrant County\, 3136 West 4th Street\, Fort Worth\, TX\, 76107\, United States
ATTACH;FMTTYPE=image/jpeg:https://helpmegrownorthtexas.org/wp-content/uploads/2024/01/dd7b455b338d0ce5867e354679240ac9.jpg
END:VEVENT
BEGIN:VEVENT
DTSTART;TZID=America/Chicago:20240214T100000
DTEND;TZID=America/Chicago:20240214T110000
DTSTAMP:20260422T232450
CREATED:20240126T004823Z
LAST-MODIFIED:20240126T004823Z
UID:105745-1707904800-1707908400@helpmegrownorthtexas.org
SUMMARY:Virtual Music and Motion
DESCRIPTION:Come join us!
URL:https://helpmegrownorthtexas.org/event/virtual-music-and-motion/
ATTACH;FMTTYPE=image/jpeg:https://helpmegrownorthtexas.org/wp-content/uploads/2024/01/81a7fc950ab6b7ee174f1c1e8aecbbc9.jpg
END:VEVENT
BEGIN:VEVENT
DTSTART;TZID=America/Chicago:20240214T140000
DTEND;TZID=America/Chicago:20240214T150000
DTSTAMP:20260422T232450
CREATED:20240125T224322Z
LAST-MODIFIED:20240125T224322Z
UID:105740-1707919200-1707922800@helpmegrownorthtexas.org
SUMMARY:Face to Face Music and Motion- Fort Worth
DESCRIPTION:Come Join us!
URL:https://helpmegrownorthtexas.org/event/face-to-face-music-and-motion-fort-worth-7/
LOCATION:Mental Health America of Greater Tarrant County\, 3136 West 4th Street\, Fort Worth\, TX\, 76107\, United States
ATTACH;FMTTYPE=image/jpeg:https://helpmegrownorthtexas.org/wp-content/uploads/2024/01/963205566bada74b70cd1c8d3c9ae27a.jpg
END:VEVENT
BEGIN:VEVENT
DTSTART;TZID=America/Chicago:20240214T173000
DTEND;TZID=America/Chicago:20240214T190000
DTSTAMP:20260422T232450
CREATED:20240119T223143Z
LAST-MODIFIED:20240119T223143Z
UID:105686-1707931800-1707937200@helpmegrownorthtexas.org
SUMMARY:Face to Face Nurturing Families Program-Fort Worth
DESCRIPTION:Come join us!
URL:https://helpmegrownorthtexas.org/event/face-to-face-nurturing-families-program-fort-worth-6/
LOCATION:Mental Health America of Greater Tarrant County\, 3136 West 4th Street\, Fort Worth\, TX\, 76107\, United States
ATTACH;FMTTYPE=image/jpeg:https://helpmegrownorthtexas.org/wp-content/uploads/2024/01/5f4d272549298804b49a52b54bdabbfc.jpg
END:VEVENT
END:VCALENDAR