BEGIN:VCALENDAR
VERSION:2.0
PRODID:-//Help Me Grow North Texas - ECPv6.15.20//NONSGML v1.0//EN
CALSCALE:GREGORIAN
METHOD:PUBLISH
X-WR-CALNAME:Help Me Grow North Texas
X-ORIGINAL-URL:https://helpmegrownorthtexas.org
X-WR-CALDESC:Events for Help Me Grow North Texas
REFRESH-INTERVAL;VALUE=DURATION:PT1H
X-Robots-Tag:noindex
X-PUBLISHED-TTL:PT1H
BEGIN:VTIMEZONE
TZID:America/Chicago
BEGIN:DAYLIGHT
TZOFFSETFROM:-0600
TZOFFSETTO:-0500
TZNAME:CDT
DTSTART:20230312T080000
END:DAYLIGHT
BEGIN:STANDARD
TZOFFSETFROM:-0500
TZOFFSETTO:-0600
TZNAME:CST
DTSTART:20231105T070000
END:STANDARD
BEGIN:DAYLIGHT
TZOFFSETFROM:-0600
TZOFFSETTO:-0500
TZNAME:CDT
DTSTART:20240310T080000
END:DAYLIGHT
BEGIN:STANDARD
TZOFFSETFROM:-0500
TZOFFSETTO:-0600
TZNAME:CST
DTSTART:20241103T070000
END:STANDARD
BEGIN:DAYLIGHT
TZOFFSETFROM:-0600
TZOFFSETTO:-0500
TZNAME:CDT
DTSTART:20250309T080000
END:DAYLIGHT
BEGIN:STANDARD
TZOFFSETFROM:-0500
TZOFFSETTO:-0600
TZNAME:CST
DTSTART:20251102T070000
END:STANDARD
END:VTIMEZONE
BEGIN:VEVENT
DTSTART;TZID=America/Chicago:20240117T090000
DTEND;TZID=America/Chicago:20240117T103000
DTSTAMP:20260423T011503
CREATED:20231212T021806Z
LAST-MODIFIED:20231212T021806Z
UID:105525-1705482000-1705487400@helpmegrownorthtexas.org
SUMMARY:Face to Face Nurturing Families Program-CCA Reagan
DESCRIPTION:Come join us!
URL:https://helpmegrownorthtexas.org/event/face-to-face-nurturing-families-program-cca-reagan-2/
LOCATION:4907 Ohio Garden Rd\, 4907 Ohio Garden Road\, Fort Worth\, TX\, 76114\, United States
ATTACH;FMTTYPE=image/jpeg:https://helpmegrownorthtexas.org/wp-content/uploads/2023/12/989b93f69a67b4a69f7d8fb2682da9c3.jpg
END:VEVENT
BEGIN:VEVENT
DTSTART;TZID=America/Chicago:20240117T090000
DTEND;TZID=America/Chicago:20240117T160000
DTSTAMP:20260423T011503
CREATED:20231212T021729Z
LAST-MODIFIED:20231212T021729Z
UID:105520-1705482000-1705507200@helpmegrownorthtexas.org
SUMMARY:Parent Café and #WowTalk Café Training -Presented by MHMR of Tarrant County
DESCRIPTION:Fidelity requires attendance all three full days
URL:https://helpmegrownorthtexas.org/event/parent-cafe-and-wowtalk-cafe-training-presented-by-mhmr-of-tarrant-county/
LOCATION:Mental Health America of Greater Tarrant County\, 3136 West 4th Street\, Fort Worth\, TX\, 76107\, United States
ATTACH;FMTTYPE=image/jpeg:https://helpmegrownorthtexas.org/wp-content/uploads/2023/12/b3d18178efa958350fd649bc7fb4a82d.jpg
END:VEVENT
BEGIN:VEVENT
DTSTART;TZID=America/Chicago:20240117T110000
DTEND;TZID=America/Chicago:20240117T133000
DTSTAMP:20260423T011503
CREATED:20240109T213006Z
LAST-MODIFIED:20240109T213006Z
UID:105640-1705489200-1705498200@helpmegrownorthtexas.org
SUMMARY:Pregnancy & Diabetes: What you need to know
DESCRIPTION:Come and Join us in person or virtual
URL:https://helpmegrownorthtexas.org/event/pregnancy-diabetes-what-you-need-to-know/
LOCATION:2400 NW 24th St\, 2400 Northwest 24th Street\, Fort Worth\, TX\, 76106\, United States
ATTACH;FMTTYPE=image/jpeg:https://helpmegrownorthtexas.org/wp-content/uploads/2024/01/c64ac8d8ec8fe2b75fcfed78af7e5293.jpg
END:VEVENT
BEGIN:VEVENT
DTSTART;TZID=America/Chicago:20240117T143000
DTEND;TZID=America/Chicago:20240117T163000
DTSTAMP:20260423T011503
CREATED:20240109T213007Z
LAST-MODIFIED:20240109T213007Z
UID:105642-1705501800-1705509000@helpmegrownorthtexas.org
SUMMARY:Pregnancy & Diabetes: What you need to know
DESCRIPTION:Come and Join us in person or virtual
URL:https://helpmegrownorthtexas.org/event/pregnancy-diabetes-what-you-need-to-know-2/
LOCATION:2400 NW 24th St\, 2400 Northwest 24th Street\, Fort Worth\, TX\, 76106\, United States
ATTACH;FMTTYPE=image/jpeg:https://helpmegrownorthtexas.org/wp-content/uploads/2024/01/c64ac8d8ec8fe2b75fcfed78af7e5293.jpg
END:VEVENT
END:VCALENDAR