BEGIN:VCALENDAR
VERSION:2.0
PRODID:-//Help Me Grow North Texas - ECPv6.15.20//NONSGML v1.0//EN
CALSCALE:GREGORIAN
METHOD:PUBLISH
X-WR-CALNAME:Help Me Grow North Texas
X-ORIGINAL-URL:https://helpmegrownorthtexas.org
X-WR-CALDESC:Events for Help Me Grow North Texas
REFRESH-INTERVAL;VALUE=DURATION:PT1H
X-Robots-Tag:noindex
X-PUBLISHED-TTL:PT1H
BEGIN:VTIMEZONE
TZID:America/Chicago
BEGIN:DAYLIGHT
TZOFFSETFROM:-0600
TZOFFSETTO:-0500
TZNAME:CDT
DTSTART:20210314T080000
END:DAYLIGHT
BEGIN:STANDARD
TZOFFSETFROM:-0500
TZOFFSETTO:-0600
TZNAME:CST
DTSTART:20211107T070000
END:STANDARD
BEGIN:DAYLIGHT
TZOFFSETFROM:-0600
TZOFFSETTO:-0500
TZNAME:CDT
DTSTART:20220313T080000
END:DAYLIGHT
BEGIN:STANDARD
TZOFFSETFROM:-0500
TZOFFSETTO:-0600
TZNAME:CST
DTSTART:20221106T070000
END:STANDARD
BEGIN:DAYLIGHT
TZOFFSETFROM:-0600
TZOFFSETTO:-0500
TZNAME:CDT
DTSTART:20230312T080000
END:DAYLIGHT
BEGIN:STANDARD
TZOFFSETFROM:-0500
TZOFFSETTO:-0600
TZNAME:CST
DTSTART:20231105T070000
END:STANDARD
END:VTIMEZONE
BEGIN:VEVENT
DTSTART;TZID=America/Chicago:20221201T100000
DTEND;TZID=America/Chicago:20221201T110000
DTSTAMP:20260419T142227
CREATED:20221012T144125Z
LAST-MODIFIED:20221112T033939Z
UID:7624-1669888800-1669892400@helpmegrownorthtexas.org
SUMMARY:Face to Face Coffee Chat- Springtown
DESCRIPTION:Come join us!!
URL:https://helpmegrownorthtexas.org/event/face-to-face-coffee-chat-springtown-6/
LOCATION:314 E 5th Terrace\, 314 East 5th Terrace\, Springtown\, TX\, 76082\, United States
ATTACH;FMTTYPE=image/jpeg:https://helpmegrownorthtexas.org/wp-content/uploads/2022/10/f891c727c64f2a1c4c7c0434be26e1b2.jpg
END:VEVENT
BEGIN:VEVENT
DTSTART;TZID=America/Chicago:20221201T160000
DTEND;TZID=America/Chicago:20221201T170000
DTSTAMP:20260419T142227
CREATED:20220811T195105Z
LAST-MODIFIED:20221201T013004Z
UID:1879-1669910400-1669914000@helpmegrownorthtexas.org
SUMMARY:Face to Face Music and Motion- Springtown
DESCRIPTION:Come join us!!
URL:https://helpmegrownorthtexas.org/event/face-to-face-music-and-motion-springtown-13/
LOCATION:314 E 5th Terrace\, 314 East 5th Terrace\, Springtown\, TX\, 76082\, United States
ATTACH;FMTTYPE=image/jpeg:https://helpmegrownorthtexas.org/wp-content/uploads/2022/09/f37c51f8a16e592b5da2975b58595feb.jpg
END:VEVENT
BEGIN:VEVENT
DTSTART;TZID=America/Chicago:20221201T173000
DTEND;TZID=America/Chicago:20221201T190000
DTSTAMP:20260419T142227
CREATED:20221018T074114Z
LAST-MODIFIED:20221201T013007Z
UID:7961-1669915800-1669921200@helpmegrownorthtexas.org
SUMMARY:Face to Face #WoWTalk Café- Fort Worth
DESCRIPTION:Come join us!!
URL:https://helpmegrownorthtexas.org/event/face-to-face-wowtalk-cafe-fort-worth-7/
LOCATION:Mental Health America of Greater Tarrant County\, 3136 West 4th Street\, Fort Worth\, TX\, 76107\, United States
ATTACH;FMTTYPE=image/jpeg:https://helpmegrownorthtexas.org/wp-content/uploads/2022/11/d1f8b6ea679c9d13f1ecb4a03471e4a8.jpg
END:VEVENT
END:VCALENDAR